BEGIN:VCALENDAR
VERSION:2.0
PRODID:-//Burnaby Division of Family Practice - ECPv6.15.20//NONSGML v1.0//EN
CALSCALE:GREGORIAN
METHOD:PUBLISH
X-ORIGINAL-URL:https://burnabydivision.ca
X-WR-CALDESC:Events for Burnaby Division of Family Practice
REFRESH-INTERVAL;VALUE=DURATION:PT1H
X-Robots-Tag:noindex
X-PUBLISHED-TTL:PT1H
BEGIN:VTIMEZONE
TZID:America/Denver
BEGIN:DAYLIGHT
TZOFFSETFROM:-0700
TZOFFSETTO:-0600
TZNAME:MDT
DTSTART:20240310T090000
END:DAYLIGHT
BEGIN:STANDARD
TZOFFSETFROM:-0600
TZOFFSETTO:-0700
TZNAME:MST
DTSTART:20241103T080000
END:STANDARD
BEGIN:DAYLIGHT
TZOFFSETFROM:-0700
TZOFFSETTO:-0600
TZNAME:MDT
DTSTART:20250309T090000
END:DAYLIGHT
BEGIN:STANDARD
TZOFFSETFROM:-0600
TZOFFSETTO:-0700
TZNAME:MST
DTSTART:20251102T080000
END:STANDARD
BEGIN:DAYLIGHT
TZOFFSETFROM:-0700
TZOFFSETTO:-0600
TZNAME:MDT
DTSTART:20260308T090000
END:DAYLIGHT
BEGIN:STANDARD
TZOFFSETFROM:-0600
TZOFFSETTO:-0700
TZNAME:MST
DTSTART:20261101T080000
END:STANDARD
END:VTIMEZONE
BEGIN:VEVENT
DTSTART;TZID=America/Denver:20251125T183000
DTEND;TZID=America/Denver:20251125T200000
DTSTAMP:20260421T233024
CREATED:20251015T151215Z
LAST-MODIFIED:20251028T231355Z
UID:1767-1764095400-1764100800@burnabydivision.ca
SUMMARY:Neighbourhood Network - Edmonds
DESCRIPTION:Calling all Edmonds FPs! Be sure to join us at your next Neighbourhood Network Meeting! \n\n\n\nThere is a 1-hour sessional payment available for Neighbourhood Network meeting participants. \n\n\n\nIf you are not yet receiving emailed invitations to a Neighbourhood Network meeting\, contact Manny Sahota at pmh@burnabydivision.ca.
URL:https://burnabydivision.ca/event/neighbourhood-network-edmonds/
CATEGORIES:Member Event,Neighbourhood Networks
ATTACH;FMTTYPE=image/png:https://burnabydivision.ca/wp-content/uploads/2025/09/Nov-25-2025.png
END:VEVENT
END:VCALENDAR