BEGIN:VCALENDAR
VERSION:2.0
PRODID:-//Burnaby Division of Family Practice - ECPv6.15.20//NONSGML v1.0//EN
CALSCALE:GREGORIAN
METHOD:PUBLISH
X-WR-CALNAME:Burnaby Division of Family Practice
X-ORIGINAL-URL:https://burnabydivision.ca
X-WR-CALDESC:Events for Burnaby Division of Family Practice
REFRESH-INTERVAL;VALUE=DURATION:PT1H
X-Robots-Tag:noindex
X-PUBLISHED-TTL:PT1H
BEGIN:VTIMEZONE
TZID:America/Denver
BEGIN:DAYLIGHT
TZOFFSETFROM:-0700
TZOFFSETTO:-0600
TZNAME:MDT
DTSTART:20250309T090000
END:DAYLIGHT
BEGIN:STANDARD
TZOFFSETFROM:-0600
TZOFFSETTO:-0700
TZNAME:MST
DTSTART:20251102T080000
END:STANDARD
BEGIN:DAYLIGHT
TZOFFSETFROM:-0700
TZOFFSETTO:-0600
TZNAME:MDT
DTSTART:20260308T090000
END:DAYLIGHT
BEGIN:STANDARD
TZOFFSETFROM:-0600
TZOFFSETTO:-0700
TZNAME:MST
DTSTART:20261101T080000
END:STANDARD
BEGIN:DAYLIGHT
TZOFFSETFROM:-0700
TZOFFSETTO:-0600
TZNAME:MDT
DTSTART:20270314T090000
END:DAYLIGHT
BEGIN:STANDARD
TZOFFSETFROM:-0600
TZOFFSETTO:-0700
TZNAME:MST
DTSTART:20271107T080000
END:STANDARD
END:VTIMEZONE
BEGIN:VEVENT
DTSTART;TZID=America/Denver:20260421T190000
DTEND;TZID=America/Denver:20260421T203000
DTSTAMP:20260420T172724
CREATED:20260319T180234Z
LAST-MODIFIED:20260319T180337Z
UID:2543-1776798000-1776803400@burnabydivision.ca
SUMMARY:Neighbourhood Network – Edmonds
DESCRIPTION:Online via Zoom \n\n\n\nCalling all Edmonds FPs! Be sure to join us at your next Neighbourhood Network Meeting! \n\n\n\nThere is a 1-hour sessional payment available for Neighbourhood Network meeting participants. \n\n\n\nIf you are not yet receiving emailed invitations to a Neighbourhood Network meeting\, please contact Manny Sahota at pmh@burnabydivision.ca. \n\n\n\nAbout Neighbourhood NetworkNeighbourhood Networks are a physician-led forum that meets regularly to discuss local issues\, access Division support\, and discover the latest tools and resources. \n\n\n\nLearn More
URL:https://burnabydivision.ca/event/neighbourhood-network-edmonds-3/
CATEGORIES:Member Event,Neighbourhood Networks
ATTACH;FMTTYPE=image/png:https://burnabydivision.ca/wp-content/uploads/2026/03/Apr-21-2026.png
END:VEVENT
BEGIN:VEVENT
DTSTART;TZID=America/Denver:20260423T190000
DTEND;TZID=America/Denver:20260423T203000
DTSTAMP:20260420T172724
CREATED:20250922T124146Z
LAST-MODIFIED:20251216T205243Z
UID:1273-1776970800-1776976200@burnabydivision.ca
SUMMARY:Making the Most of Your Hospital Stay: Strategies to feel confident going into your next hospital stay
DESCRIPTION:Continuing Medical Education\, Member Event\n\n\n\n\nStrategies to feel confident going into your next hospital stay. \n\n\n\nJoin Dr. Davidicus Wong virtually as he discusses: \n\n\n\n\nAdvanced medical directives\n\n\n\nFinding out who’s who and who’s in the charge\n\n\n\nHow to maintain your autonomy\n\n\n\nThe key information you need to make informed decisions\n\n\n\n\nDownload Poster\n\n\n\nAbout Empowering PatientsKnowledge is power. To help you better understand how to optimize your health – both through your relationship with your doctor and in your day-to-day life – we created a speaker series called Empowering Patients.These health talks are presented by Dr. Davidicus Wong\, with support from Leona Cullen. \n\n\n\nVisit our Empowering Patients page to see other upcoming sessions\, downloadable resources\, and a video library of past recordings.
URL:https://burnabydivision.ca/event/making-the-most-of-your-hospital-stay-strategies-to-feel-confident-going-into-your-next-hospital-stay/
CATEGORIES:Empowering Patients,Public Event
ATTACH;FMTTYPE=image/png:https://burnabydivision.ca/wp-content/uploads/2025/09/Apr-26-2026.png
END:VEVENT
END:VCALENDAR